BEGIN:VCALENDAR
VERSION:2.0
PRODID:-//Eventin//Event Calendar//EN
CALSCALE:GREGORIAN
METHOD:PUBLISH
BEGIN:VEVENT
UID:538983fefdb0810e3fb5171e4684cfe4@old.datadesign.fi
SUMMARY:Liiketoiminnallista hyötyä datasta ja tekoälystä -webinaari
DESCRIPTION:LIIKETOIMINNALLISTA HYÖTYÄ DATASTA JA TEKOÄLYSTÄ					\n				
 		Kevään 2023 valmistavan teollisuuden data- ja tekoälykiihdyttämön op
 it					\n				WEBINAARI\n			Liiketoiminnallista hyötyä datasta ja tekoäly
 stä		\n		Tule mukaan kuulemaan valmistavan teollisuuden datakiihdyttämön
  kevään 2023 toteutuksen käytännön opit ja tulokset. Kiihdyttämön j
 ärjestivät Finnish Advanced Manufacturing Network (FAMN)\, Teknologiateol
 lisuus ry\, Silo AI Oy ja Data Design Oy.		\n			Tilaisuuden ohjelma		\n				
 	\n							\n										Tilaisuuden avaus Antti Karjaluoto\, FAMN\n									\
 n								\n										Datan ja tekoälyn merkitys teollisuusyrityksille: mik
 si kannattaa panostaa?Kai Knuutila\, Silo AI\n									\n								\n								
 		Kiihdyttämön opetukset – miten päästä datan ja tekoälyn hyödynt
 ämisen kanssa konkreettisesti liikkeelle?Mika Aho ja Jaakko Mattila\, Data
  Design Oy\n									\n						\n			Yritystarinat		\n					\n							\n								
 		Fastems: Koneiden koko potentiaali hyötykäyttöön tekoälyn avulla Hen
 ri Terho\, Tommi Laukkanen\, Torben Petermann\n									\n								\n							
 			FinnSonic: Digitaaliset elinkaaripalvelut teollisissa pesuratkaisuissaJu
 hana Rikkinen\n									\n								\n										Kemppi: SMD-linjaston toimint
 ojen optimointi tekoälylläJari Takala\n									\n						\n			Q&A ja yhtee
 nveto		\n					\n							\n										Miten päästä alkuun: askelmerkit data
 n käyttöönottamiseksi ja paljonko pitää investoida alkuun pääsemisek
 si? Kai Knuutila (Silo AI)\, Mika Aho (Data Design)\n									\n								\n	
 									Seuraavat askeleet: Syksyn 2023 data- ja tekoälykiihdyttämöAntt
 i Karjaluoto\, FAMN\n									\n						\n			TAPAHTUMAN TIEDOT		\n					\n				
 			\n										15.9.2023\n									\n								\n										9.00 - 11.00\n				
 					\n								\n										Online - MS Teams\n									\n						\n			JÄRJES
 TÄJÄT		\n																\n															\n																\n											
 				\n																\n															\n																\n															\
 n			KIIHDYTTÄMÖN OSALLISTUJAT		\n																\n															\n					
 											\n															\n																\n															\n			Tapahtu
 ma on päättynyt		\n		Kiitokset kaikille osallistujille. Meitä oli yli 50
  kiinnostunutta linjoilla datan ja tekoälyn hyödyntämisestä valmistavas
 sa teollisuudessa.Lisäämme tänne myöhemmin Data Designin esityksen\, od
 otellessa voit katsoa tarinamme edellisestä kiihdyttämöjaksosta.
LOCATION:Online - MS Teams
DTSTAMP:20260421T100255Z
DTSTART:20230915T060000Z
DTEND:20260421T080000Z
END:VEVENT
END:VCALENDAR
