BEGIN:VCALENDAR
VERSION:2.0
PRODID:-//Eventin//Event Calendar//EN
CALSCALE:GREGORIAN
METHOD:PUBLISH
BEGIN:VEVENT
UID:4e11279a19ce7396646a8cbbd44a923b@old.datadesign.fi
SUMMARY:GenAI Accelerator (Winter 2024)
DESCRIPTION:GENERATIVE AI ACCELERATOR					\n						Get started with Generati
 ve AI					\n				TRAINING\n			Generative AI Accelerator - Winter 2024 Batch	
 	\n																														\n		Are you finding it challenging to pinp
 oint key areas in your organization where Generative AI could drive transfo
 rmative change and unlock new opportunities?		\n		With untapped GenAI capab
 ilities and a myriad of unrealized opportunities\, creating a focused and e
 ffective roadmap for implementation is a complex task.		\n			EVENT DETAILS	
 	\n					\n							\n										29.1.2024 - 26.2.2024(every Monday)\n									
 \n								\n										9.00 - 16.00\n									\n								\n										Helsinki
  / Hybrid\n									\n						\n			\n						Pre-Register\n					\n			GenAI Acce
 lerator Winter 2024 Batch kicks off in January		\n		Designed for both big a
 nd small companies\, the GenAI Accelerator makes generative AI easy to unde
 rstand in business. It turns possible problems into real business chances t
 hrough fun\, interactive\, expert-led sessions.		\n																								
 						\n		The GenAI Accelerator is an immersive\, five-week program meticul
 ously engineered to empower your teams with the crucial skills\, frameworks
 \, and strategic insights required to leverage GenAI effectively. Read more
 !		\n			Pricing		\n		Our GenAI Accelerator is priced at 5000€ per organiz
 ation. This cost includes participation for one team\, which should consist
  of 2-5 individuals focused on the same areas of interest and use cases.		\
 n			Do you have questions?		\n		Our experts are eager to assist. Whether yo
 u're curious about the program specifics or wondering how GenAI can fit int
 o your business strategy\, we're just a message away. Don't hesitate to rea
 ch out for personalized guidance and insights.		\n			Pre-Register today!		\
 n		By filling in the form\, secure an opportunity to gain a competitive edg
 e through actionable GenAI insights and expert-led training. Our GenAI exp
 erts will be in contact with you and elaborate more on the details. This is
  your step towards transforming your organization's approach to generative 
 AI without any immediate commitments. Don't miss the preliminary insight th
 at could drive your organization forward.
LOCATION:Helsinki / Hybrid
DTSTAMP:20260421T125457Z
DTSTART:20240129T060000Z
DTEND:20260421T130000Z
END:VEVENT
END:VCALENDAR
