BEGIN:VCALENDAR
VERSION:2.0
PRODID:-//Eventin//Event Calendar//EN
CALSCALE:GREGORIAN
METHOD:PUBLISH
BEGIN:VEVENT
UID:a35f97fce3f0d4e2d2a052367ce632e8@old.datadesign.fi
SUMMARY:Webinar on-demand: – ChatGPT and Other Generative AI Technologies
 : Opportunities\, Challenges\, and Risks for Business Applications
DESCRIPTION:UNLEASH THE POTENTIAL\,\nFACE THE CHALLENGES AND BE AWARE\nof t
 he Risks of Generative AI in Your Business\nThis webinar was designed with 
 a particular focus on executives and business stakeholders in the financial
  and healthcare sectors.\n\nHowever\, we also discussed about Applications/
 Vulnerabilities in Business & Data Management Processes.\n\nWe took some sp
 ecific examples from Healthcare and Finance \n\nas these are the most regu
 lated industries vulnerable to these Generative AI technologies\n\n\nWebi
 nar materials are now available!\n\nDownload the recording and materials by
  filling out the form.\n\nhttps://youtu.be/Ev8TXET2rhA\n\nValuable insights
 \ninto how businesses can leverage AI technologies for benefit while being 
 mindful of potential risks.\n\nCase studies\nof successful applications of 
 Generative AI technology in different domains.\nAGENDA\n\n 	Introduction of
  the webinar and participants & Housekeeping\n 	Introduction to Generative 
 AI technology & Capabilities\n\n \n\n 	\n\n 	Case studies\nExplore Success
 ful Applications of Generative AI Technology Across Multiple Domains:\n\nDi
 scover how to integrate GenAI (AutoGPT\, etc.) into Business Processes with
  our case studies of successful applications of Generative AI technology. O
 ur expert speakers will highlight how Generative AI can be used in various 
 domains\, including the financial sector\, healthcare\, and data economy & 
 regulations.\n\n\n\n \n\n 	Q&A session \n\n\n\n								\nJAAKKO MATTILA\n
 \n\nPartner\, Senior Advisor\n\nData Design\n\nJaakko works as an AI and da
 ta strategy and data management advisor at Data Design.\n\nJaakko has two d
 ecades of experience working with data strategy and data governance in cons
 ulting\, manufacturing & process industry\, high-tech companies\, and the m
 edia and public sector.\n\nJaakko is a CIPP/E certified data governance exp
 ert\, who specializes in developing fair and sustainable AI and data manage
 ment practices.\n\n\n\n								\nVIKAS KUMAR GARG\n\n\nCo-Founder & Chief S
 cientist\n\nYaiYai\n\nProfessor of AI/ML at Aalto University and FCAI and c
 o-Lead of the Quantum Software & Algorithms group\nPhD in EECS from MIT (al
 so\, BP Technologies Ventures and Energy Fellow\, and member of ML for Phar
 maceutical Discovery & Synthesis Consortium with major biopharma companies)
 \nTwo decades of AI/ML research\, engineering\, and leadership (including w
 ork on Smarter Cities\, Sustainable Solutions & Wireless Analytics at IBM R
 esearch\, Edge Computing & IoT at Microsoft Research Redmond\, Supply Chain
  Dynamics at Indian School of Business\, and Recommender Systems for e-Comm
 erce at Amazon Palo Alto).\n\n\n\n								\nTAMAR PICHKHADZE\n\n\nCo-founde
 r\n\nYaiYai\n\nMaster of Finance from MIT (No. 1 ranked program globally)\n
 10+ years experience at leading corporates\, startups\, and organizations\n
 (including State Street Associates\, Ministry of Finance Israel\, World Ban
 k\, SATEC)\nConvocation speaker at MIT & recipient of the prestigious Milke
 n Fellowship.\n\n\n\n								\nPATRICK HALFORD\n\n\nVice President\, Digita
 l Industries\n\nSpinverse\n\nLeading Spinverse's Digital Industries team fr
 om across 14 nationalities in Defense\, Electronics\, AI\, Healthtech and S
 mart Cities/Mobility\, helping to accelerate the commercialisation of R&D a
 cross the EU.\n\nAn expert at Singularity Group\, and a startup mentor at E
 uropean accelerators\, as well as an advisor to Nordic Space & Healthtech V
 Cs. Advisory Boards for drone\, AR and space startups.\n\nA frequent techno
 logy and business conference moderator\, and interviewer of global CXOs acr
 oss industries addressing their business and technological agendas. Guest b
 usiness writer The Copenhagen Post. Published author of 2 fiction novels.\n
 \n\n\n								\nGAURAV KHULLAR\n\n\nPartner\, Senior Advisor\n\nData Design
 \n\nMore than 20+ year industry background in data and AI strategy with exp
 erience at companies like Microsoft\, Accenture\, Nokia\, Digital Workforce
  Services\, Silo AI.\nWidely known for having a technical understanding of 
 software\, data and AI\, strategic planning abilities\, & experience in con
 sulting towards C-suite and senior management.\nInvolved with AI-related te
 chnologies for over 12 years\, covering machine learning\, natural language
  processing\, deep learning\, computer vision etc.\nDeveloped AI teams\, co
 nceptualized\, developed\, and commercialized numerous business-critical AI
  solutions.\nLeadership roles in many organizations e.g. CTO of Digital Wor
 kforce Services\, and a Principal Consultant at Silo AI.\n\n\nStay Ahead of
  the Curve\nmake informed decisions about how to leverage AI technologies f
 or the benefit of your business.\n\nTake part\nin our Q&A session to have y
 our questions answered by our expert panelists.
LOCATION:Webinar
DTSTAMP:20260421T124019Z
DTSTART:20260421T070000Z
DTEND:20260421T083000Z
END:VEVENT
END:VCALENDAR
